BEGIN:VCALENDAR
VERSION:2.0
PRODID:-//eventon.com NONSGML v1.0//EN
BEGIN:VEVENT
UID:69ec9dbaea0a1
DTSTAMP:20260425T105554
DTSTART:20210627T000000Z
DTEND:20210627T000000Z
LOCATION:
SUMMARY:Podcast "Gay Mom Talking"
DESCRIPTION: Podcasterin Madita Haustein spricht mit Béla Müller von DUGay e.V. über LSBTIQ-History und Möglichkeiten\,  sich auch heute für die Community stark zu machen. gay-mom-talking.podigee.io Instagram.com/gay_mom_talking_podcast
END:VEVENT
END:VCALENDAR